BEGIN:VCALENDAR
VERSION:2.0
PRODID:-//Niagara Corvette Club - ECPv6.15.20//NONSGML v1.0//EN
CALSCALE:GREGORIAN
METHOD:PUBLISH
X-WR-CALNAME:Niagara Corvette Club
X-ORIGINAL-URL:https://niagaracorvetteclub.com
X-WR-CALDESC:Events for Niagara Corvette Club
REFRESH-INTERVAL;VALUE=DURATION:PT1H
X-Robots-Tag:noindex
X-PUBLISHED-TTL:PT1H
BEGIN:VTIMEZONE
TZID:America/Toronto
BEGIN:DAYLIGHT
TZOFFSETFROM:-0500
TZOFFSETTO:-0400
TZNAME:EDT
DTSTART:20240310T070000
END:DAYLIGHT
BEGIN:STANDARD
TZOFFSETFROM:-0400
TZOFFSETTO:-0500
TZNAME:EST
DTSTART:20241103T060000
END:STANDARD
BEGIN:DAYLIGHT
TZOFFSETFROM:-0500
TZOFFSETTO:-0400
TZNAME:EDT
DTSTART:20250309T070000
END:DAYLIGHT
BEGIN:STANDARD
TZOFFSETFROM:-0400
TZOFFSETTO:-0500
TZNAME:EST
DTSTART:20251102T060000
END:STANDARD
BEGIN:DAYLIGHT
TZOFFSETFROM:-0500
TZOFFSETTO:-0400
TZNAME:EDT
DTSTART:20260308T070000
END:DAYLIGHT
BEGIN:STANDARD
TZOFFSETFROM:-0400
TZOFFSETTO:-0500
TZNAME:EST
DTSTART:20261101T060000
END:STANDARD
END:VTIMEZONE
BEGIN:VEVENT
DTSTART;TZID=America/Toronto:20250901T160000
DTEND;TZID=America/Toronto:20250901T210000
DTSTAMP:20260421T103245
CREATED:20250805T173641Z
LAST-MODIFIED:20250827T211303Z
UID:4939-1756742400-1756760400@niagaracorvetteclub.com
SUMMARY:CANCELLED: Beatles\, Burgers and Beer at the Innsville
DESCRIPTION:This event has been cancelled due to a band member’s illness. \n  \nWe’ll meet up at the Bulk Barn on Fourth Avenue in St. Catharines\, and drive Hwy 8 and the Ridge Road to the Innsville Restaurant in Winona. Otherwise\, members may choose to meet our group directly at the Innsville after 5 pm. \nWe will have reserved seats near the stage. The whole dinner menu is available. \nMembers are responsible for their own food and drinks. Alternate Members are eligible if over the age of 19. \nFull details of meeting locations and times will be provided after you register for the event. \nhttps://innsville.ca/about-the-innsville \nPlease use the RSVP link below\, and indicate how many members will be attending. \nAs always\, 1 member is 1 Guest\, 2 members is 2 Guests.
URL:https://niagaracorvetteclub.com/event/beatles-burgers-and-beer-at-the-innsville/
ATTACH;FMTTYPE=image/png:https://niagaracorvetteclub.com/wp-content/uploads/2025/08/beatles-burgers-beer.png
END:VEVENT
BEGIN:VEVENT
DTSTART;TZID=America/Toronto:20250903T160000
DTEND;TZID=America/Toronto:20250903T190000
DTSTAMP:20260421T103245
CREATED:20250828T192816Z
LAST-MODIFIED:20250828T192816Z
UID:5110-1756915200-1756926000@niagaracorvetteclub.com
SUMMARY:Drifters Cruise Night in Chippawa
DESCRIPTION:Wednesday Sept 3rd at 3970 Welland Street at Chippawa Lions Park at 4 pm \nShow capacity is over 500 cars. This is the final Super Cruise of the season. \nThe Drifters Niagara organizers have indicated that they would provide a reserved parking area for our Club Corvettes. \nPlease use the link below to sign up for this event. We would meet up at the park.
URL:https://niagaracorvetteclub.com/event/drifters-cruise-night-in-chippawa/
LOCATION:Chippawa Lions Park\, 3970 Welland Street\, Niagara Falls\, Ontario\, L2G 6L6\, Canada
ATTACH;FMTTYPE=image/jpeg:https://niagaracorvetteclub.com/wp-content/uploads/2025/08/Chippawa-Park.jpg
END:VEVENT
BEGIN:VEVENT
DTSTART;TZID=America/Toronto:20250906T090000
DTEND;TZID=America/Toronto:20250906T120000
DTSTAMP:20260421T103245
CREATED:20250828T193234Z
LAST-MODIFIED:20250828T193234Z
UID:5115-1757149200-1757160000@niagaracorvetteclub.com
SUMMARY:Corvettes and Coffee at Hagerty Garage and Social
DESCRIPTION:Hagerty Garage and Social\, 1220 Corporate Dr\, Burlington\, ON \nSaturday\, September 06\, 2025  9:00 AM – 12:00 PM \nhttps://www.corvetteclubofontario.com/event-6096585 \nJoin the CCO members at the upcoming Saturday morning Corvettes and Coffee at Hagerty Garage and Social in Burlington. This is a great location\, terrific facility and some really awesome collector level cars on display too. \nPlease use our NCC link below to sign up for this event. We will connect all registrants so that driving plans may be arranged.
URL:https://niagaracorvetteclub.com/event/corvettes-and-coffee-at-hagerty-garage-and-social/
LOCATION:Hagerty Garage\, 1220 Corporate Drive\, Burlington\, Ontario\, Canada
ATTACH;FMTTYPE=image/jpeg:https://niagaracorvetteclub.com/wp-content/uploads/2025/08/DSC_9372-scaled-1.jpg
END:VEVENT
BEGIN:VEVENT
DTSTART;TZID=America/Toronto:20250906T090000
DTEND;TZID=America/Toronto:20250906T160000
DTSTAMP:20260421T103245
CREATED:20250728T153834Z
LAST-MODIFIED:20250824T202039Z
UID:4907-1757149200-1757174400@niagaracorvetteclub.com
SUMMARY:Rumble in the Village Car Show
DESCRIPTION:Inspired by the guys doing brake torques for the kids as they left the park.\n“The Fabulous Fenwick Lions Classic Car Show and Draw” is now called… \n“Rumble in the Village Car Show”\n\n\nThe Car Show will go Rain or Shine. \nDriver discretion is advised for weather concerns.\nThe gate will open at 8 am\nTime: 9 am – 4 pm Gates open 8 am \nPlace: Centennial Park\, 999 Church St. Fenwick \n$10 per car \nThis Car Show has become a staple in the community\, attracting over 300 participants and drawing crowds of a couple of thousand enthusiasts. This year\, they’re adding even more excitement with the addition of a Swap Meet\, making the event bigger and better than ever before. \nParking is spread across the various grass areas of the park. Our plan for the Club is to meet at the Log Cabin (155 Hwy 20 W\, Fonthill) on Hwy 20 in Fonthill at 9 am\, and drive from there down Canborough Road to Church Street in Fenwick. We would then park together on the grass areas beside the baseball diamonds on the east side of the park. \nIf you prefer to line up at 8 am to enter the show\, you can look for our group after 9 am. \n\nAdmission $10/ car\nFree to General Public\nDash Plaques for the first 250 cars\nDraw for 50/50 at 1 pm\nDraw for the 1968 Camaro at 2 pm\nLive Music by Second Heaven\nBeer Garden\nFood Vendors\nSplash Pad and Play Ground for kids\n\nClick here for more details.
URL:https://niagaracorvetteclub.com/event/rumble-in-the-village-car-show/
LOCATION:Centennial Park\, 999 Church Street\, Fenwick\, Ontario\, Canada
ATTACH;FMTTYPE=image/jpeg:https://niagaracorvetteclub.com/wp-content/uploads/2025/07/header-2.jpg
END:VEVENT
BEGIN:VEVENT
DTSTART;TZID=America/Toronto:20250907T100000
DTEND;TZID=America/Toronto:20250907T160000
DTSTAMP:20260421T103245
CREATED:20250523T170248Z
LAST-MODIFIED:20250814T030443Z
UID:4319-1757239200-1757260800@niagaracorvetteclub.com
SUMMARY:President's BBQ
DESCRIPTION:We are all super excited to have you join us for our annual President’s BBQ.  Prior to the BBQ we will have a cruise named the Welland Canal Bridge Roulette followed by a back country breeze.  Estimated cruise time is 2 to 2½ hours.  Ships in the canal are a wild card. \nDate: Sunday September 7\, 2025 (this is a rain or shine event) \nTime: Driver’s Meeting – 10:00 am\, Wheels Up – 10:30 am \nMeeting Place: \nSteve & Natalie Brogan’s Home at 3186 Culp Road\, Jordan Station \nWe will be starting AND ending at Natalie & Steve’s home.  If you’re facing the house\, the grass lot to the left is parking\, generously provided by their neighbour.  Since this is a private property\, please take caution not to burn out or skid to a stop to protect the grass. \n BBQ: \nFollowing the cruise\, we will return to the Brogan’s for a BBQ sponsored by the Club. Lunch\, water\, pop\, coffee/tea\, and dessert\, will be provided. Lawn games will be set up\, so bring on the fun! \nBring: \n\nLawn chair\nComfortable shoes for walking on grass\nSwim suites (optional)
URL:https://niagaracorvetteclub.com/event/presidents-bbq-2/
LOCATION:Steve & Natalie Brogan\, 3186 Culp Road\, Jordan Station\, Ontario\, Canada
CATEGORIES:Social Events
ATTACH;FMTTYPE=image/jpeg:https://niagaracorvetteclub.com/wp-content/uploads/2024/11/Presidents-BBQ-July-2024-585.jpg
END:VEVENT
BEGIN:VEVENT
DTSTART;TZID=America/Toronto:20250909T193000
DTEND;TZID=America/Toronto:20250909T210000
DTSTAMP:20260421T103245
CREATED:20250723T174942Z
LAST-MODIFIED:20250723T174942Z
UID:4846-1757446200-1757451600@niagaracorvetteclub.com
SUMMARY:Club Meeting
DESCRIPTION:Club meetings will be held on the first Tuesday of each month (unless otherwise specified) at 7:30 pm at the Niagara College Welland Campus. The Campus is located at 100 Niagara College Boulevard and is accessible from Woodlawn Road\, First Avenue\, and Rice Road. Enter by the Main Entrance\, the Campus Entrance (follow the North Road)\, the West Entrance\, or the Chippawayan Blvd Entrance\, only westbound from Woodlawn Road. Easy access is from Hwy 406 from the north or south across Woodlawn Road\, or from Niagara Street or South Pelham Road\, south of Regional Road 20. \nMeetings will be held in Lecture Room S135\, adjacent to the Cafeteria and the Commons Entrance (please refer to the maps and photos included below). This also includes free parking after 5 pm in Lot C2 and C3\, which is safeguarded by Security Personnel and cameras. For reference\, these lots are to the Northeast of Lot D\, where the Niagara College Car Show was held last year. \nThe parking lot C3 is just a short walk to the Commons Entrance that leads into the Food Court/Cafeteria\, and there is a circular driveway/drop off area on the North Road beside the doors\, as shown below: \n\n\n\n\n\n\n\n \nAs in the photo below\, the Commons Entrance leads into a large seating area right next to the Food Court\, which features Tim Hortons\, Subway\, Pizza Pizza and others. Hours may vary and be shortened in the summer months. \nWe recommend that you arrive at the Campus and park in Lot C3 at 6 pm or thereafter\, as that will allow you plenty of time to get a coffee\, or a drink\, or a snack in the Food Court\, and then sit down and socialize with other Club Members in the generous seating area of the Cafeteria. \n \nFor those members looking for a more formal place to eat before arriving at Niagara College\, we suggest trying Boston Pizza or M.T. Bellies on Niagara Street near Quaker Road\, or Chuck’s Roadhouse Bar & Grill at 647 Niagara Street\, just south of Woodlawn Road. \nAs in the photo above\, the short hallway directly beside the Wellness Lounge (this is just a few steps from the Commons Entrance\, across from the computer screen shown below) leads down to Lecture Room S135\, with washrooms located at the opposite end of the hall. \nDirectly inside the first door of Room S135 will be our usual layout of name badges\, club information\, and tickets. The room itself has tremendous acoustics\, and also features a multimedia display screen and audio system.  There is a generous amount of seating in an ampitheatre format. The room is reserved for our use\, and requires no set up or teardown. Food and drinks are permitted; we just ask that you clean up any items that you bring in. \nThe meeting will start at 7:30 pm\, so please make your way from the Food Court before that time. \n \n 
URL:https://niagaracorvetteclub.com/event/club-meeting-3/
LOCATION:Niagara College\, 100 Niagara College Blvd\, Welland\, Ontario\, L3C 7L3\, Canada
ATTACH;FMTTYPE=image/jpeg:https://niagaracorvetteclub.com/wp-content/uploads/2025/01/Niagara-College-meeting-Feb.jpg
END:VEVENT
BEGIN:VEVENT
DTSTART;TZID=America/Toronto:20250914T090000
DTEND;TZID=America/Toronto:20250914T150000
DTSTAMP:20260421T103245
CREATED:20250907T001643Z
LAST-MODIFIED:20250907T001643Z
UID:5266-1757840400-1757862000@niagaracorvetteclub.com
SUMMARY:St. Davids Lions Club Car Show
DESCRIPTION:
URL:https://niagaracorvetteclub.com/event/st-davids-lions-club-car-show/
ATTACH;FMTTYPE=image/jpeg:https://niagaracorvetteclub.com/wp-content/uploads/2025/09/St-Davids-Sept-14.jpg
END:VEVENT
BEGIN:VEVENT
DTSTART;TZID=America/Toronto:20250914T093000
DTEND;TZID=America/Toronto:20250915T170000
DTSTAMP:20260421T103245
CREATED:20250830T034024Z
LAST-MODIFIED:20250830T034356Z
UID:5144-1757842200-1757955600@niagaracorvetteclub.com
SUMMARY:Ellicottville Rock and Roll Weekend
DESCRIPTION:We are looking at doing our annual day trip to the Ellicottville for the Rock and Roll Weekend car show. \nhttps://www.ellicottvilleny.com/events/rock-n-roll-weekend-2025 \nIt will be Sunday Sept 14\, 2025. We will be meeting on the USA side with a departure time of 9:30 am. \nAt this point we just want to get an idea of numbers that would like to attend. \nMore information to follow as we firm plans up. \nAlternate Members are eligible for this Club event. \nPlease use the RSVP link below to sign up for the event\, and receive event details.
URL:https://niagaracorvetteclub.com/event/ellicottville-rock-and-roll-weekend/
CATEGORIES:Drives
ATTACH;FMTTYPE=image/jpeg:https://niagaracorvetteclub.com/wp-content/uploads/2025/07/Rally-2.jpg
END:VEVENT
BEGIN:VEVENT
DTSTART;TZID=America/Toronto:20250920T080000
DTEND;TZID=America/Toronto:20250921T170000
DTSTAMP:20260421T103245
CREATED:20250521T135624Z
LAST-MODIFIED:20250825T144723Z
UID:4252-1758355200-1758474000@niagaracorvetteclub.com
SUMMARY:South Coast Dream Drive
DESCRIPTION:Join us for a weekend of cars\, scenic views\, food\, entertainment & amazing people. \nRunning between Fort Erie (photo booth at Greater Fort Erie Secondary School) and St Thomas\n​\nJoin the classic car cruise at any point along the scenic route\, with starting and ending options available in both towns. \nClick here for more information or the PDF documents below. \nDreamDrive2025-2 (PDF) \nDreamDrive2025-1 (PDF)
URL:https://niagaracorvetteclub.com/event/south-coast-dream-drive/
LOCATION:Greater Fort Erie Secondary School\, 1640 Garrison Rd\, Fort Erie\, Ontario\, L2A 5M4\, Canada
CATEGORIES:Drives
ATTACH;FMTTYPE=image/jpeg:https://niagaracorvetteclub.com/wp-content/uploads/2025/05/Silver-C5.jpg
END:VEVENT
BEGIN:VEVENT
DTSTART;VALUE=DATE:20250923
DTEND;VALUE=DATE:20251019
DTSTAMP:20260421T103245
CREATED:20250923T172553Z
LAST-MODIFIED:20250923T180157Z
UID:5418-1758585600-1760831999@niagaracorvetteclub.com
SUMMARY:2026 Club Corvette Calendar Promotion and Fundraiser
DESCRIPTION:We’d like to offer our Members a custom Corvette Calendar using high quality photos of 12 Corvettes owned within our Club. \nThe standard 12 month calendar would feature 12 months of Club Corvettes\, printed on premium glossy 11 x 17 inch cardstock\, coil bound at the top\, with a drilled hole at the top for hanging. The cost per calendar\, sample shown below\, is $25 total. \nFor those members who would like to feature 2 supplied photos of their own Corvette in 2 selected months in the calendar\, this option would be available for a $10 premium. \nAll proceeds above cost will be donated to the Niagara Children’s Centre. \nPlease use the links below to provide your name\, email address\, and the number of calendars that you would be prepared to order. There are 2 order options available below at different price points.  The calendars would be available in November. \nWe will use this information to determine if we can undertake this promotion. We will contact the membership again with the actual order sheet. \nMembers who have had photos of their Corvette selected for the standard calendar will be contacted to ask for their permission.
URL:https://niagaracorvetteclub.com/event/2026-club-corvette-calendar-promotion-and-fundraiser/
ATTACH;FMTTYPE=image/jpeg:https://niagaracorvetteclub.com/wp-content/uploads/2025/09/Calendar-Sample-2026.jpg
END:VEVENT
BEGIN:VEVENT
DTSTART;TZID=America/Toronto:20250928T070000
DTEND;TZID=America/Toronto:20250928T150000
DTSTAMP:20260421T103245
CREATED:20250907T001718Z
LAST-MODIFIED:20250907T001718Z
UID:5270-1759042800-1759071600@niagaracorvetteclub.com
SUMMARY:Last Chance Car Show
DESCRIPTION:
URL:https://niagaracorvetteclub.com/event/last-chance-car-show/
ATTACH;FMTTYPE=image/jpeg:https://niagaracorvetteclub.com/wp-content/uploads/2025/09/Last-Chance-Car-Show-2025.jpg
END:VEVENT
END:VCALENDAR