BEGIN:VCALENDAR
VERSION:2.0
PRODID:-//Niagara Corvette Club - ECPv6.15.20//NONSGML v1.0//EN
CALSCALE:GREGORIAN
METHOD:PUBLISH
X-ORIGINAL-URL:https://niagaracorvetteclub.com
X-WR-CALDESC:Events for Niagara Corvette Club
REFRESH-INTERVAL;VALUE=DURATION:PT1H
X-Robots-Tag:noindex
X-PUBLISHED-TTL:PT1H
BEGIN:VTIMEZONE
TZID:America/Toronto
BEGIN:DAYLIGHT
TZOFFSETFROM:-0500
TZOFFSETTO:-0400
TZNAME:EDT
DTSTART:20240310T070000
END:DAYLIGHT
BEGIN:STANDARD
TZOFFSETFROM:-0400
TZOFFSETTO:-0500
TZNAME:EST
DTSTART:20241103T060000
END:STANDARD
BEGIN:DAYLIGHT
TZOFFSETFROM:-0500
TZOFFSETTO:-0400
TZNAME:EDT
DTSTART:20250309T070000
END:DAYLIGHT
BEGIN:STANDARD
TZOFFSETFROM:-0400
TZOFFSETTO:-0500
TZNAME:EST
DTSTART:20251102T060000
END:STANDARD
BEGIN:DAYLIGHT
TZOFFSETFROM:-0500
TZOFFSETTO:-0400
TZNAME:EDT
DTSTART:20260308T070000
END:DAYLIGHT
BEGIN:STANDARD
TZOFFSETFROM:-0400
TZOFFSETTO:-0500
TZNAME:EST
DTSTART:20261101T060000
END:STANDARD
END:VTIMEZONE
BEGIN:VEVENT
DTSTART;VALUE=DATE:20250705
DTEND;VALUE=DATE:20250706
DTSTAMP:20260421T133800
CREATED:20250419T150327Z
LAST-MODIFIED:20250619T153806Z
UID:4024-1751673600-1751759999@niagaracorvetteclub.com
SUMMARY:Niagara College (Welland Campus) Car Show
DESCRIPTION:Our annual car show event will be hosted on SATURDAY\, JULY 5th 2025\, from 10 am to 2 pm at our Welland Campus. Our outdoor event will include all classes of cars\, family friendly activities\, food available to purchase and vendors for all types of car enthusiasts. \nWe are reaching out to all enthusiasts who attended last year’s event\, to offer a promotional discount to register for this year\, by June 6th 2025. \nEnter promo code: Carshow \nCLICK HERE TO RESERVE YOUR SPOT \nGuests can come down to 100 Niagara College BLVD to enjoy a variety of cool cars on display. \nAwards for our event include Best in Class for each car category. \nRegistration closes on Friday\, July 4th\, 2025 by 6 pm to be considered for judging and awards. \nThis Eventbrite page is for registering car owners only . Please only purchase your $15 ticket if you will be showcasing your car at this event. (HST not included) \nBy registering your car for the event through this page all car owners are agreeing to the following guidelines… \nCars are to arrive between and 8:00 am – 9:30 am latest to set up. \nCars MUST remain on the premises for the entire event\, from 10:00 AM – 2:00 PM\, no car may leave until 2:00 PM\, and the event concludes \nNiagara College will not be responsible for any damages during our event. \nRegistration is required\, so if you intend on bringing your car to showcase at this event then please register here now. \nWe are very excited to be able to bring this event to our NC community and our guests and we hope to see you all there! \nShould you have any questions regarding this event\, please email event specific questions to Sarah Scott at sarscott@niagaracollege.ca \nCLICK HERE TO RESERVE YOUR SPOT \n\nThe College will allocate parking space based on the expected number of our Corvettes attending. Please provide your name and email and the number of Corvettes (1 car equals 1 Guest) that will attend.
URL:https://niagaracorvetteclub.com/event/niagara-college-welland-campus-car-show/
LOCATION:Niagara College\, 100 Niagara College Blvd\, Welland\, Ontario\, L3C 7L3\, Canada
CATEGORIES:Car Shows
ATTACH;FMTTYPE=image/avif:https://niagaracorvetteclub.com/wp-content/uploads/2025/04/https-cdn.evbuc_.com-images-1020273853-1834741089253-1-original.20250430-164634.avif
END:VEVENT
BEGIN:VEVENT
DTSTART;TZID=America/Toronto:20250708T170000
DTEND;TZID=America/Toronto:20250708T210000
DTSTAMP:20260421T133800
CREATED:20250509T184828Z
LAST-MODIFIED:20250619T144256Z
UID:4151-1751994000-1752008400@niagaracorvetteclub.com
SUMMARY:Club Meeting & BBQ
DESCRIPTION:The July meeting will be held at Club Capri at 36 Cleveland St in Thorold on Tuesday July 8th. This is the same location as the June 21st Rally and BBQ event. There is easy access from Hwy 406 and Hwy 58 at Pine St. \nThe meeting will feature a private outdoor BBQ Dinner with a variety of chicken and ribs\, potato\, vegetables and soft drinks. A cash bar will be available. \nWe are subsidizing part of the cost of the meal as a thank you to everyone for your support and assistance with our upcoming July 13th Show and Shine Car Show. We will also cover the gratuities for the Club Capri staff for the meal. However\, cash tips at the bar will be appreciated. \nThe cost of the meal per member is $20.00. Please use the RSVP link to sign up for the meal\, and then send an eTransfer to treasurer@niagaracorvetteclub.com for the total cost of the meal(s) for you and your Affiliate Member. The cut-off date for registration will be July 4th. \nCash or cheque payments can also be made at the upcoming June events. (Check our Calendar for the many upcoming events this summer.) \nThis subsidized event is not eligible for Alternate Members to attend. \nThe parking lot will open at 5 pm for socializing\, and the BBQ Dinner will be served from 6 to 7 pm. \nThe parking lot is quite large\, so it will provide a great opportunity to assemble our many Corvettes. \nThe regular meeting (although a little shorter) will begin at 7:30 pm in the parking lot. \nIf you do not wish to take part in the BBQ\, you are more than welcome to arrive for the 7:30 meeting. \nWe look forward to seeing everyone at this event. \nThanks from your Executive \nJoe Bello – President \nCraig Gemmel – Treasurer \nBob Sagon-King – Vice-President \nAndre Kemp – Vice-President \nTerri Johnson – Vice-President \nHarold Anders – Secretary \nDirectors \nSusan Smith – Membership Director \nRichard Limoges – Technical Director \nMaria Kemp – Social Director \nStan Goosen – Historical Advisor \nPaul Toth – Sponsorship \nKipp Battiston – Facebook Editor \nJohn Mytroen – DRIVE Committee Member
URL:https://niagaracorvetteclub.com/event/club-meeting/
LOCATION:Club Capri\, 36 Cleveland Street\, Thorold\, Ontario\, Canada
ATTACH;FMTTYPE=image/jpeg:https://niagaracorvetteclub.com/wp-content/uploads/2025/05/BBQ3-1924x673-1.jpg
END:VEVENT
BEGIN:VEVENT
DTSTART;TZID=America/Toronto:20250713T090000
DTEND;TZID=America/Toronto:20250713T140000
DTSTAMP:20260421T133800
CREATED:20250422T192628Z
LAST-MODIFIED:20250422T202746Z
UID:4044-1752397200-1752415200@niagaracorvetteclub.com
SUMMARY:Show & Shine Car Show
DESCRIPTION:
URL:https://niagaracorvetteclub.com/event/show-shine/
LOCATION:Brian Cullen Motors\, 386 Ontario Street\, St. Catharines\, Ontario\, L2R 5L8\, Canada
CATEGORIES:Social Events
ATTACH;FMTTYPE=image/jpeg:https://niagaracorvetteclub.com/wp-content/uploads/2025/04/2025-Show-n-Shine-Rev-2-scaled.jpg
END:VEVENT
BEGIN:VEVENT
DTSTART;TZID=America/Toronto:20250720T090000
DTEND;TZID=America/Toronto:20250720T160000
DTSTAMP:20260421T133800
CREATED:20250521T134949Z
LAST-MODIFIED:20250521T135035Z
UID:4243-1753002000-1753027200@niagaracorvetteclub.com
SUMMARY:Pelham Summerfest Car Show
DESCRIPTION:Sunday July 20\, 2025 9:00 am – 4:00 pm \n\nTime: 9:00 am to 4:00 pm \nLocation: 20 Pelham Town Square Fonthill\, ON L0S 1E0 \nRegistration: Register on-site the day of the event \nCost: $10 per car \nJoin us from 9:00 am to 4:00 pm for the Pelham Summerfest car show in partnership with Storm the Falls! Whether you’re a car enthusiast or just looking for a fun day out\, this event has something for everyone. No pre-registration is necessary – simply register on-site the day of the event for just $10 per car. With a wide variety of classic\, custom\, and exotic cars on display\, it’s the perfect opportunity to showcase your vehicle and admire others. There will be an award ceremony at 2:30 pm\, where standout cars will be recognized. Don’t miss the chance to witness a stunning collection of unique and classic cars\, enjoy live entertainment\, eat delicious food\, and browse various retail vendors. \nClick here for more details.
URL:https://niagaracorvetteclub.com/event/pelham-summerfest-car-show/
LOCATION:Peace Park\, 20 Pelham Town Square\, Fonthill\, Ontario\, L0S 1E0\, Canada
CATEGORIES:Car Shows
ATTACH;FMTTYPE=image/webp:https://niagaracorvetteclub.com/wp-content/uploads/2025/05/car-show-blue-car-scaled.webp
END:VEVENT
BEGIN:VEVENT
DTSTART;VALUE=DATE:20250726
DTEND;VALUE=DATE:20250727
DTSTAMP:20260421T133800
CREATED:20250419T150544Z
LAST-MODIFIED:20250705T011105Z
UID:4026-1753488000-1753574399@niagaracorvetteclub.com
SUMMARY:Winetasting and Dinner at Reif Winery with the Corvettes of Western Ontario Club
DESCRIPTION:Join the members of the CWO at Reif Winery for a wine tasting event\, followed by dinner. \nThe cost is $65 plus taxes per member. \nPlease use the RSVP link below to sign up for this event. \nMembers will be contacted regarding the final cost and payment details.
URL:https://niagaracorvetteclub.com/event/corvettes-of-western-ontario-at-reif-winery/
LOCATION:Reif Winery\, 15608 Niagara River Pkwy\, Niagara-on-the-Lake\, Ontario\, L0S 1J0\, Canada
CATEGORIES:Social Events
ATTACH;FMTTYPE=image/webp:https://niagaracorvetteclub.com/wp-content/uploads/2025/04/240727_REIF_WINERY_Exterior_Web_2762.jpg-scaled.webp
END:VEVENT
BEGIN:VEVENT
DTSTART;VALUE=DATE:20250727
DTEND;VALUE=DATE:20250728
DTSTAMP:20260421T133800
CREATED:20250419T150627Z
LAST-MODIFIED:20250709T205622Z
UID:4030-1753574400-1753660799@niagaracorvetteclub.com
SUMMARY:Lunch at Betty’s Restaurant and Cruise with the CWO
DESCRIPTION:There will be a lunch at Betty’s Restaurant in Chippawa\, where our members will meet up with the members of the CWO. \nMembers will be responsible for the cost of their meals and drinks. \nFollowing the lunch\, the CWO members will be heading back home along a scenic route through Niagara Falls and Pelham to Canborough\, then further. NCC Members are invited to join in the cruise to Canborough\, then head back to Niagara with a possible ice cream stop. \nPlease use the RSVP link below to sign up for this event. \nAs always\, enter your name(s) and email address in the RSVP link\, and enter the number of Members attending\, where 1 Member equals 1 Guest\, and 2 Members equals 2 Guests.
URL:https://niagaracorvetteclub.com/event/corvettes-of-western-ontario-for-lake-erie-cruise/
CATEGORIES:Drives
ATTACH;FMTTYPE=image/jpeg:https://niagaracorvetteclub.com/wp-content/uploads/2025/01/NCC-Vettes-waitiing-in-the-pits.jpg
END:VEVENT
END:VCALENDAR