BEGIN:VCALENDAR
VERSION:2.0
PRODID:-//Niagara Corvette Club - ECPv6.15.20//NONSGML v1.0//EN
CALSCALE:GREGORIAN
METHOD:PUBLISH
X-ORIGINAL-URL:https://niagaracorvetteclub.com
X-WR-CALDESC:Events for Niagara Corvette Club
REFRESH-INTERVAL;VALUE=DURATION:PT1H
X-Robots-Tag:noindex
X-PUBLISHED-TTL:PT1H
BEGIN:VTIMEZONE
TZID:America/Toronto
BEGIN:DAYLIGHT
TZOFFSETFROM:-0500
TZOFFSETTO:-0400
TZNAME:EDT
DTSTART:20230312T070000
END:DAYLIGHT
BEGIN:STANDARD
TZOFFSETFROM:-0400
TZOFFSETTO:-0500
TZNAME:EST
DTSTART:20231105T060000
END:STANDARD
BEGIN:DAYLIGHT
TZOFFSETFROM:-0500
TZOFFSETTO:-0400
TZNAME:EDT
DTSTART:20240310T070000
END:DAYLIGHT
BEGIN:STANDARD
TZOFFSETFROM:-0400
TZOFFSETTO:-0500
TZNAME:EST
DTSTART:20241103T060000
END:STANDARD
BEGIN:DAYLIGHT
TZOFFSETFROM:-0500
TZOFFSETTO:-0400
TZNAME:EDT
DTSTART:20250309T070000
END:DAYLIGHT
BEGIN:STANDARD
TZOFFSETFROM:-0400
TZOFFSETTO:-0500
TZNAME:EST
DTSTART:20251102T060000
END:STANDARD
END:VTIMEZONE
BEGIN:VEVENT
DTSTART;TZID=America/Toronto:20241105T193000
DTEND;TZID=America/Toronto:20241105T210000
DTSTAMP:20260424T043035
CREATED:20241011T235138Z
LAST-MODIFIED:20241011T235138Z
UID:3464-1730835000-1730840400@niagaracorvetteclub.com
SUMMARY:Club Meeting at Cullens
DESCRIPTION:Will include the election of the Executive for the next term.
URL:https://niagaracorvetteclub.com/event/club-meeting-at-cullens-6/
LOCATION:Brian Cullen Motors\, 386 Ontario Street\, St. Catharines\, Ontario\, L2R 5L8\, Canada
ATTACH;FMTTYPE=image/png:https://niagaracorvetteclub.com/wp-content/uploads/2023/04/Corvette-Club-of-Niagara-50th-Anniversary-Logo-1.png
END:VEVENT
BEGIN:VEVENT
DTSTART;TZID=America/Toronto:20241110T170000
DTEND;TZID=America/Toronto:20241110T220000
DTSTAMP:20260424T043035
CREATED:20240920T163511Z
LAST-MODIFIED:20241011T235036Z
UID:3434-1731258000-1731276000@niagaracorvetteclub.com
SUMMARY:NCC Annual Christmas Party
DESCRIPTION:Who:  Niagara Corvette Club Primary & Affiliates & Associate Members Only  \nWhere:  Betty’s Restaurant – 8921 Sodom Road – Niagara Falls \nTime:  5:00pm Cocktails – 6:00pm Dinner \nCocktails – Cash Bar \nBuffet Dinner:  $ 60.00 per person  (Includes Assortment of Options\, Desserts & Soft Drinks) \nPrice Includes Tax & Gratuity  \nReservation Must Be Pre-Paid \nThis is a Non-Refundable Event \nSend Payments To:  treasurer@niagaracorvetteclub.com \nRSVP Deadline:  October 18th\nPayment Deadline:  October 18th
URL:https://niagaracorvetteclub.com/event/christmas-party/
ATTACH;FMTTYPE=image/jpeg:https://niagaracorvetteclub.com/wp-content/uploads/2023/11/2023-Christmas-Tree.jpg
END:VEVENT
END:VCALENDAR