BEGIN:VCALENDAR
VERSION:2.0
PRODID:-//Niagara Corvette Club - ECPv6.15.20//NONSGML v1.0//EN
CALSCALE:GREGORIAN
METHOD:PUBLISH
X-ORIGINAL-URL:https://niagaracorvetteclub.com
X-WR-CALDESC:Events for Niagara Corvette Club
REFRESH-INTERVAL;VALUE=DURATION:PT1H
X-Robots-Tag:noindex
X-PUBLISHED-TTL:PT1H
BEGIN:VTIMEZONE
TZID:America/Toronto
BEGIN:DAYLIGHT
TZOFFSETFROM:-0500
TZOFFSETTO:-0400
TZNAME:EDT
DTSTART:20230312T070000
END:DAYLIGHT
BEGIN:STANDARD
TZOFFSETFROM:-0400
TZOFFSETTO:-0500
TZNAME:EST
DTSTART:20231105T060000
END:STANDARD
BEGIN:DAYLIGHT
TZOFFSETFROM:-0500
TZOFFSETTO:-0400
TZNAME:EDT
DTSTART:20240310T070000
END:DAYLIGHT
BEGIN:STANDARD
TZOFFSETFROM:-0400
TZOFFSETTO:-0500
TZNAME:EST
DTSTART:20241103T060000
END:STANDARD
BEGIN:DAYLIGHT
TZOFFSETFROM:-0500
TZOFFSETTO:-0400
TZNAME:EDT
DTSTART:20250309T070000
END:DAYLIGHT
BEGIN:STANDARD
TZOFFSETFROM:-0400
TZOFFSETTO:-0500
TZNAME:EST
DTSTART:20251102T060000
END:STANDARD
END:VTIMEZONE
BEGIN:VEVENT
DTSTART;TZID=America/Toronto:20240702T193000
DTEND;TZID=America/Toronto:20240702T210000
DTSTAMP:20260422T160459
CREATED:20240613T143018Z
LAST-MODIFIED:20240613T143018Z
UID:3264-1719948600-1719954000@niagaracorvetteclub.com
SUMMARY:Club Meeting at Cullens
DESCRIPTION:
URL:https://niagaracorvetteclub.com/event/club-meeting-at-cullens-3/
LOCATION:Brian Cullen Motors\, 386 Ontario Street\, St. Catharines\, Ontario\, L2R 5L8\, Canada
ATTACH;FMTTYPE=image/png:https://niagaracorvetteclub.com/wp-content/uploads/2023/04/Corvette-Club-of-Niagara-50th-Anniversary-Logo-1.png
END:VEVENT
BEGIN:VEVENT
DTSTART;VALUE=DATE:20240707
DTEND;VALUE=DATE:20240708
DTSTAMP:20260422T160459
CREATED:20240415T011253Z
LAST-MODIFIED:20240430T021432Z
UID:3203-1720310400-1720396799@niagaracorvetteclub.com
SUMMARY:President's BBQ
DESCRIPTION:Cruise and BBQ. Details to be announced. \nThis will be a rain or shine event with food and refreshments included. \nThe BBQ will be at Steve and Natalie Brogan’s home in Jordan Station. Bring your swim attire if you want\, the pool is inviting.  \nMore details coming.
URL:https://niagaracorvetteclub.com/event/presidents-bbq/
ATTACH;FMTTYPE=image/jpeg:https://niagaracorvetteclub.com/wp-content/uploads/2023/11/Wheels-Wine-and-BBQ-June-2023-547.jpg
END:VEVENT
BEGIN:VEVENT
DTSTART;TZID=America/Toronto:20240721T090000
DTEND;TZID=America/Toronto:20240721T140000
DTSTAMP:20260422T160459
CREATED:20240411T171324Z
LAST-MODIFIED:20240411T171324Z
UID:3186-1721552400-1721570400@niagaracorvetteclub.com
SUMMARY:Corvette Show & Shine
DESCRIPTION:Food vendors\, music\, prizes and face painting. $20 per Corvette with display parking for the first 150 cars. Spectators are free.
URL:https://niagaracorvetteclub.com/event/corvette-show-shine/
LOCATION:Brian Cullen Motors\, 386 Ontario Street\, St. Catharines\, Ontario\, L2R 5L8\, Canada
ATTACH;FMTTYPE=image/jpeg:https://niagaracorvetteclub.com/wp-content/uploads/2024/04/2024-Corvette-Show-n-Shine.jpg
END:VEVENT
END:VCALENDAR