BEGIN:VCALENDAR
VERSION:2.0
PRODID:-//Niagara Corvette Club - ECPv6.15.20//NONSGML v1.0//EN
CALSCALE:GREGORIAN
METHOD:PUBLISH
X-WR-CALNAME:Niagara Corvette Club
X-ORIGINAL-URL:https://niagaracorvetteclub.com
X-WR-CALDESC:Events for Niagara Corvette Club
REFRESH-INTERVAL;VALUE=DURATION:PT1H
X-Robots-Tag:noindex
X-PUBLISHED-TTL:PT1H
BEGIN:VTIMEZONE
TZID:America/Toronto
BEGIN:DAYLIGHT
TZOFFSETFROM:-0500
TZOFFSETTO:-0400
TZNAME:EDT
DTSTART:20250309T070000
END:DAYLIGHT
BEGIN:STANDARD
TZOFFSETFROM:-0400
TZOFFSETTO:-0500
TZNAME:EST
DTSTART:20251102T060000
END:STANDARD
BEGIN:DAYLIGHT
TZOFFSETFROM:-0500
TZOFFSETTO:-0400
TZNAME:EDT
DTSTART:20260308T070000
END:DAYLIGHT
BEGIN:STANDARD
TZOFFSETFROM:-0400
TZOFFSETTO:-0500
TZNAME:EST
DTSTART:20261101T060000
END:STANDARD
BEGIN:DAYLIGHT
TZOFFSETFROM:-0500
TZOFFSETTO:-0400
TZNAME:EDT
DTSTART:20270314T070000
END:DAYLIGHT
BEGIN:STANDARD
TZOFFSETFROM:-0400
TZOFFSETTO:-0500
TZNAME:EST
DTSTART:20271107T060000
END:STANDARD
END:VTIMEZONE
BEGIN:VEVENT
DTSTART;VALUE=DATE:20260715
DTEND;VALUE=DATE:20260720
DTSTAMP:20260420T025411
CREATED:20251203T185049Z
LAST-MODIFIED:20260227T101556Z
UID:5676-1784073600-1784505599@niagaracorvetteclub.com
SUMMARY:Atlantic Nationals 2026
DESCRIPTION:We are in the planning stages for a road trip to the Atlantic Nationals Car Show. \nhttps://atlanticnationals.com/ \nThere will be many options available for travel routes to the show\, and hotels/motels in Moncton. Many of our Club Members may choose to extend their trip with further destinations in the Atlantic Provinces\, or plan their own route home. \nOne possible plan is to take 2 days and 1 night to reach Moncton\, stay 3 nights in Moncton with 2 to 3 days at the car show\, or visiting other sightseeing attractions\, and then depart on July 19th per member’s personal travel preferences. \nThe Niagara Corvette Club will reserve blocks of rooms at motels/hotels in Quebec and New Brunswick\, based on the number of Members who indicate their intention to take part in this trip. \nRSVPs are requested by March 6th to allow us to book sufficient rooms. \nMembers may purchase their car show entrance tickets online after our trip numbers and motel bookings are confirmed. \nPlease use the Niagara Corvette Club RSVP link below to sign up for this event. Alternate Members are eligible. Please enter your name\, email address\, and the number of Members travelling in your vehicle (1 or 2). \nFull details of motels and dining stops to follow. \nPlease contact John Mytroen  john.mytroen@gmail.com for more details on this event.
URL:https://niagaracorvetteclub.com/event/moncton-atlantic-nationals/
LOCATION:Ontario
ATTACH;FMTTYPE=image/png:https://niagaracorvetteclub.com/wp-content/uploads/2025/12/Atlantic-Nationals-2026.png
END:VEVENT
BEGIN:VEVENT
DTSTART;TZID=America/Toronto:20260804T193000
DTEND;TZID=America/Toronto:20260804T210000
DTSTAMP:20260420T025411
CREATED:20260304T163341Z
LAST-MODIFIED:20260304T163341Z
UID:5820-1785871800-1785877200@niagaracorvetteclub.com
SUMMARY:August Club Meeting
DESCRIPTION:The next Club meeting will be on Tuesday August 4th at 7:30 pm at the Niagara College Welland Campus in Lecture Room S135. This is the same room we used for meetings at the college all last year.
URL:https://niagaracorvetteclub.com/event/august-club-meeting/
LOCATION:Niagara College\, 100 Niagara College Blvd\, Welland\, Ontario\, L3C 7L3\, Canada
ATTACH;FMTTYPE=image/jpeg:https://niagaracorvetteclub.com/wp-content/uploads/2025/01/Niagara-College-meeting-Feb.jpg
END:VEVENT
BEGIN:VEVENT
DTSTART;TZID=America/Toronto:20260806T180000
DTEND;TZID=America/Toronto:20260806T200000
DTSTAMP:20260420T025411
CREATED:20260416T083342Z
LAST-MODIFIED:20260416T083342Z
UID:6233-1786039200-1786046400@niagaracorvetteclub.com
SUMMARY:Port Colborne Downtown Cruisers Corvette Night
DESCRIPTION:Details TBA
URL:https://niagaracorvetteclub.com/event/port-colborne-downtown-cruisers-corvette-night/
LOCATION:Ontario
CATEGORIES:Drives
END:VEVENT
BEGIN:VEVENT
DTSTART;TZID=America/Toronto:20260808T090000
DTEND;TZID=America/Toronto:20260808T150000
DTSTAMP:20260420T025411
CREATED:20260320T193045Z
LAST-MODIFIED:20260320T193045Z
UID:5921-1786179600-1786201200@niagaracorvetteclub.com
SUMMARY:Classic Corvette Showcase
DESCRIPTION:The Niagara Corvette Club annual Car Show in support of the Niagara Children’s Centre will be held at Club Capri in Thorold\, featuring a showcase of classic Corvettes from the first 3 Generations from 1953 to 1982.\n\nAll Corvettes and spectators welcome at the show. Full details to follow.
URL:https://niagaracorvetteclub.com/event/classic-corvette-showcase/
LOCATION:Club Capri\, 36 Cleveland Street\, Thorold\, Ontario\, Canada
CATEGORIES:Car Shows
END:VEVENT
BEGIN:VEVENT
DTSTART;VALUE=DATE:20260829
DTEND;VALUE=DATE:20260830
DTSTAMP:20260420T025411
CREATED:20260416T083413Z
LAST-MODIFIED:20260416T083413Z
UID:6235-1787961600-1788047999@niagaracorvetteclub.com
SUMMARY:Feeder Canal and South Shore Cruise with lunch at the Garden Houzz
DESCRIPTION:Details TBA
URL:https://niagaracorvetteclub.com/event/feeder-canal-and-south-shore-cruise-with-lunch-at-the-garden-houzz/
LOCATION:Ontario
CATEGORIES:Drives
END:VEVENT
BEGIN:VEVENT
DTSTART;TZID=America/Toronto:20260908T193000
DTEND;TZID=America/Toronto:20260908T210000
DTSTAMP:20260420T025411
CREATED:20260304T163422Z
LAST-MODIFIED:20260304T163422Z
UID:5822-1788895800-1788901200@niagaracorvetteclub.com
SUMMARY:September Club Meeting
DESCRIPTION:The next Club meeting will be on Tuesday September 8th at 7:30 pm at the Niagara College Welland Campus in Lecture Room S135. This is the same room we used for meetings at the college all last year.
URL:https://niagaracorvetteclub.com/event/september-club-meeting/
LOCATION:Niagara College\, 100 Niagara College Blvd\, Welland\, Ontario\, L3C 7L3\, Canada
ATTACH;FMTTYPE=image/jpeg:https://niagaracorvetteclub.com/wp-content/uploads/2025/01/Niagara-College-meeting-Feb.jpg
END:VEVENT
BEGIN:VEVENT
DTSTART;VALUE=DATE:20260913
DTEND;VALUE=DATE:20260914
DTSTAMP:20260420T025411
CREATED:20260416T083813Z
LAST-MODIFIED:20260416T083813Z
UID:6237-1789257600-1789343999@niagaracorvetteclub.com
SUMMARY:Ellicottville Rock and Roll Weekend
DESCRIPTION:This is Ellicottville locals’ favorite event. Over 15 regional bands will perform throughout our legendary bars and restaurants (all free of charge)\, and on Sunday you’ll hear the roar of a LOT of engines. \nOn Sunday the annual car and truck show\, featuring over 200 vehicles\, will take place on the Village Streets from noon until 5 PM. The classes have changed this year\, so registrants- please keep that in mind when you register! \nWe will hold the Award Ceremony for Best in Show at 3 pm at the Village Gazebo. We’ll also have a People’s Choice Award this year. In order to make sure we have space for everyone in the show\, we can’t allow any registrations the day of the show. \nRock N’ Roll Weekend has been an annual event in our community for over 20 years. It’s a perfect fall weekend for the whole family to enjoy! We have a 4-block radius full of wonderful dining experiences\, boutiques\, shops\, and best of all- there’s entertainment on every corner.  \nClick here for more details and to register.
URL:https://niagaracorvetteclub.com/event/ellicottville-rock-and-roll-weekend-2/
LOCATION:Ontario
CATEGORIES:Car Shows
ATTACH;FMTTYPE=image/jpeg:https://niagaracorvetteclub.com/wp-content/uploads/2026/04/car.jpg
END:VEVENT
BEGIN:VEVENT
DTSTART;TZID=America/Toronto:20260915T130000
DTEND;TZID=America/Toronto:20260915T160000
DTSTAMP:20260420T025411
CREATED:20260224T105817Z
LAST-MODIFIED:20260416T084039Z
UID:5760-1789477200-1789488000@niagaracorvetteclub.com
SUMMARY:Grand Bend Track Day
DESCRIPTION:
URL:https://niagaracorvetteclub.com/event/grand-bend-track-day-2/
LOCATION:Ontario
CATEGORIES:Social Events
END:VEVENT
BEGIN:VEVENT
DTSTART;VALUE=DATE:20260918
DTEND;VALUE=DATE:20260919
DTSTAMP:20260420T025411
CREATED:20260416T083939Z
LAST-MODIFIED:20260416T083939Z
UID:6242-1789689600-1789775999@niagaracorvetteclub.com
SUMMARY:Niagara 5000
DESCRIPTION:Launched in 2024\, Niagara 5000 is the pinnacle of automotive and aviation excellence in North America. After a phenomenal 2025 season with over 10\,000 attendees and 230+ supercars\, we’re elevating the experience even further in 2026. \nEach year\, we bring together the world’s most prestigious brands and discerning guests for an unforgettable two-day celebration of performance\, innovation\, and luxury. \nBut Niagara 5000 is more than just an event—it’s a movement. We support McMaster Children’s Hospital\, transforming lives while celebrating automotive & aviation excellence. \nClick here to read more.
URL:https://niagaracorvetteclub.com/event/niagara-5000/
LOCATION:Ontario
CATEGORIES:Car Shows
ATTACH;FMTTYPE=image/webp:https://niagaracorvetteclub.com/wp-content/uploads/2026/04/logo-no-sponsor.webp
END:VEVENT
BEGIN:VEVENT
DTSTART;TZID=America/Toronto:20260927T080000
DTEND;TZID=America/Toronto:20260927T143000
DTSTAMP:20260420T025411
CREATED:20260408T165432Z
LAST-MODIFIED:20260408T165432Z
UID:6152-1790496000-1790519400@niagaracorvetteclub.com
SUMMARY:Last Chance Car Show & Swap Meet
DESCRIPTION:
URL:https://niagaracorvetteclub.com/event/last-chance-car-show-swap-meet/
LOCATION:Niagara Military Heritage Centre Museum\, 12761 Sodom Road\, Niagara Falls\, Ontario\, Canada
CATEGORIES:Car Shows
ATTACH;FMTTYPE=image/jpeg:https://niagaracorvetteclub.com/wp-content/uploads/2026/04/Last-Chance-Sept-2026.jpg
END:VEVENT
BEGIN:VEVENT
DTSTART;TZID=America/Toronto:20261006T193000
DTEND;TZID=America/Toronto:20261006T210000
DTSTAMP:20260420T025411
CREATED:20260304T163505Z
LAST-MODIFIED:20260304T163505Z
UID:5824-1791315000-1791320400@niagaracorvetteclub.com
SUMMARY:October Club Meeting
DESCRIPTION:The next Club meeting will be on Tuesday October 6th at 7:30 pm at the Niagara College Welland Campus in Lecture Room S135. This is the same room we used for meetings at the college all last year.
URL:https://niagaracorvetteclub.com/event/october-club-meeting/
LOCATION:Niagara College\, 100 Niagara College Blvd\, Welland\, Ontario\, L3C 7L3\, Canada
ATTACH;FMTTYPE=image/jpeg:https://niagaracorvetteclub.com/wp-content/uploads/2025/01/Niagara-College-meeting-Feb.jpg
END:VEVENT
BEGIN:VEVENT
DTSTART;TZID=America/Toronto:20261103T193000
DTEND;TZID=America/Toronto:20261103T210000
DTSTAMP:20260420T025411
CREATED:20260304T163614Z
LAST-MODIFIED:20260304T163614Z
UID:5826-1793734200-1793739600@niagaracorvetteclub.com
SUMMARY:November Club Meeting
DESCRIPTION:The next Club meeting will be on Tuesday November 3rd at 7:30 pm at the Niagara College Welland Campus in Lecture Room S135. This is the same room we used for meetings at the college all last year.
URL:https://niagaracorvetteclub.com/event/november-club-meeting/
LOCATION:Niagara College\, 100 Niagara College Blvd\, Welland\, Ontario\, L3C 7L3\, Canada
ATTACH;FMTTYPE=image/jpeg:https://niagaracorvetteclub.com/wp-content/uploads/2025/01/Niagara-College-meeting-Feb.jpg
END:VEVENT
END:VCALENDAR