BEGIN:VCALENDAR
VERSION:2.0
PRODID:-//Niagara Corvette Club - ECPv6.15.20//NONSGML v1.0//EN
CALSCALE:GREGORIAN
METHOD:PUBLISH
X-WR-CALNAME:Niagara Corvette Club
X-ORIGINAL-URL:https://niagaracorvetteclub.com
X-WR-CALDESC:Events for Niagara Corvette Club
REFRESH-INTERVAL;VALUE=DURATION:PT1H
X-Robots-Tag:noindex
X-PUBLISHED-TTL:PT1H
BEGIN:VTIMEZONE
TZID:America/Toronto
BEGIN:DAYLIGHT
TZOFFSETFROM:-0500
TZOFFSETTO:-0400
TZNAME:EDT
DTSTART:20250309T070000
END:DAYLIGHT
BEGIN:STANDARD
TZOFFSETFROM:-0400
TZOFFSETTO:-0500
TZNAME:EST
DTSTART:20251102T060000
END:STANDARD
BEGIN:DAYLIGHT
TZOFFSETFROM:-0500
TZOFFSETTO:-0400
TZNAME:EDT
DTSTART:20260308T070000
END:DAYLIGHT
BEGIN:STANDARD
TZOFFSETFROM:-0400
TZOFFSETTO:-0500
TZNAME:EST
DTSTART:20261101T060000
END:STANDARD
BEGIN:DAYLIGHT
TZOFFSETFROM:-0500
TZOFFSETTO:-0400
TZNAME:EDT
DTSTART:20270314T070000
END:DAYLIGHT
BEGIN:STANDARD
TZOFFSETFROM:-0400
TZOFFSETTO:-0500
TZNAME:EST
DTSTART:20271107T060000
END:STANDARD
END:VTIMEZONE
BEGIN:VEVENT
DTSTART;TZID=America/Toronto:20260620T180000
DTEND;TZID=America/Toronto:20260620T203000
DTSTAMP:20260425T215929
CREATED:20260413T184957Z
LAST-MODIFIED:20260421T145301Z
UID:6192-1781978400-1781987400@niagaracorvetteclub.com
SUMMARY:Stone Eagle Dining
DESCRIPTION:If you are interested in a fine dining experience\, then Saturday June 20th at the Stone Eagle Restaurant “The Nest” is for you. We have reserved the Aquila room for dinner\, but it only accommodates 22 guests\, so please RSVP as soon as you can so you won’t be disappointed. \n \nWe will have a choice of ordering off the menu or from prix fixe menu made for us\, and it will be $115 + tax + gratuity per person. I’m attaching the menu for the restaurant and a SAMPLE of their prix fixe menu. If you have any questions or concerns\, please reach out to me. \nMaria Kemp \nSocial Director \nsocial@niagaracorvetteclub.com \nPlease use the Niagara Corvette Club RSVP link below to sign up for this event. Please enter your name\, email address\, and the total number of Members attending (1 or 2).
URL:https://niagaracorvetteclub.com/event/stone-eagle-dining/
CATEGORIES:Social Events
ATTACH;FMTTYPE=image/jpeg:https://niagaracorvetteclub.com/wp-content/uploads/2026/04/StoneEagle1.jpeg
END:VEVENT
END:VCALENDAR