BEGIN:VCALENDAR
VERSION:2.0
PRODID:-//Niagara Corvette Club - ECPv6.15.20//NONSGML v1.0//EN
CALSCALE:GREGORIAN
METHOD:PUBLISH
X-ORIGINAL-URL:https://niagaracorvetteclub.com
X-WR-CALDESC:Events for Niagara Corvette Club
REFRESH-INTERVAL;VALUE=DURATION:PT1H
X-Robots-Tag:noindex
X-PUBLISHED-TTL:PT1H
BEGIN:VTIMEZONE
TZID:America/Toronto
BEGIN:DAYLIGHT
TZOFFSETFROM:-0500
TZOFFSETTO:-0400
TZNAME:EDT
DTSTART:20250309T070000
END:DAYLIGHT
BEGIN:STANDARD
TZOFFSETFROM:-0400
TZOFFSETTO:-0500
TZNAME:EST
DTSTART:20251102T060000
END:STANDARD
BEGIN:DAYLIGHT
TZOFFSETFROM:-0500
TZOFFSETTO:-0400
TZNAME:EDT
DTSTART:20260308T070000
END:DAYLIGHT
BEGIN:STANDARD
TZOFFSETFROM:-0400
TZOFFSETTO:-0500
TZNAME:EST
DTSTART:20261101T060000
END:STANDARD
BEGIN:DAYLIGHT
TZOFFSETFROM:-0500
TZOFFSETTO:-0400
TZNAME:EDT
DTSTART:20270314T070000
END:DAYLIGHT
BEGIN:STANDARD
TZOFFSETFROM:-0400
TZOFFSETTO:-0500
TZNAME:EST
DTSTART:20271107T060000
END:STANDARD
END:VTIMEZONE
BEGIN:VEVENT
DTSTART;TZID=America/Toronto:20260503T170000
DTEND;TZID=America/Toronto:20260503T200000
DTSTAMP:20260425T235400
CREATED:20260304T164307Z
LAST-MODIFIED:20260323T203646Z
UID:5835-1777827600-1777838400@niagaracorvetteclub.com
SUMMARY:Drifter Niagara Sunday Cruise Night
DESCRIPTION:Join us May 3rd as we kick off the Drifters Niagara 2026 Cruise Night season at the Canada One Outlets at 7500 Lundy’s Lane. \nEvent Details \n\nWhen: Every Sunday\, starting May 3\, 2026 (Season runs Apr. 4 – Sept. 27)\nTime: 5:00 PM – 8:00 PM\nIn support of the Walker Family Cancer Centre\n\nPlease use the Niagara Corvette Club RSVP below to sign up for this event. Please enter your name\, email address\, and the total number of Members attending (1 or 2). \nPlease contact John Mytroen drive@niagaracorvetteclub.com for more details on this event.
URL:https://niagaracorvetteclub.com/event/drifter-niagara-sunday-cruise-night/
LOCATION:Canada One Outlets\, 7500 Lundy's Lane\, Niagara Falls\, Ontario\, Canada
CATEGORIES:Drives
ATTACH;FMTTYPE=image/png:https://niagaracorvetteclub.com/wp-content/uploads/2026/03/Drifters-Niagara-Sunday-Night-Cruises-2026.png
END:VEVENT
BEGIN:VEVENT
DTSTART;VALUE=DATE:20260509
DTEND;VALUE=DATE:20260510
DTSTAMP:20260425T235400
CREATED:20260224T105722Z
LAST-MODIFIED:20260403T082920Z
UID:5756-1778284800-1778371199@niagaracorvetteclub.com
SUMMARY:Get Your Vette Out of the Garage Cruise
DESCRIPTION:This annual cruise will start in the parking lot on Fourth Avenue at 420 Vansickle Rd\, St. Catharines at 10 am on Saturday May 9th. Further details will be provided. \nWe’ll enjoy a back roads tour of west St. Catharines and Pelham\, on our way to Club Capri at 36 Cleveland St in Thorold for some social time and a BBQ lunch. \nThe cost of the lunch per Member is $20.00. The Niagara Corvette Club will be subsidizing a portion of the cost of this event. \nPlease use the Niagara Corvette Club RSVP link below to sign up for this event. Please enter your name\, email address\, and the total number of Members attending (1 or 2). \nAfter registering\, please eTransfer your payment to treasurer@niagaracorvetteclub.com or cash payments can be made at the April 7th Club Meeting. \nPlease contact Andre Kemp andrevp@niagaracorvetteclub.com for more details on this event.
URL:https://niagaracorvetteclub.com/event/get-your-vette-out-of-the-garage-cruise/
CATEGORIES:Drives,Social Events
ATTACH;FMTTYPE=image/jpeg:https://niagaracorvetteclub.com/wp-content/uploads/2026/02/2026-get-corvettes-out.jpg
END:VEVENT
BEGIN:VEVENT
DTSTART;TZID=America/Toronto:20260524T100000
DTEND;TZID=America/Toronto:20260524T140000
DTSTAMP:20260425T235400
CREATED:20251203T182505Z
LAST-MODIFIED:20260309T091539Z
UID:5665-1779616800-1779631200@niagaracorvetteclub.com
SUMMARY:Crown Vettes Car Show
DESCRIPTION: The Corvettes of Western Ontario will be hosting their 9th annual Crown Vettes Show on Sunday MAY 24th\, 2026 at the Lambeth Legion grounds\, 7097 Kilbourne Rd\, London\, Ontario from 10 am to 2:00 pm. The Lambeth Legion offers both pavement and a tree lined lawn for the parking of your Vette. The Legion is located just minutes north of Hwy’s 401 and 402…straight north on Colonel Talbot Road to Kilbourne Rd.  \nThe Legion building will be open to our attendees\, offering indoor washrooms\, air conditioning\, and shelter from the heat and/or rain (heaven forbid). The Legion Ladies will be firing up their BBQ at 11:00 am\, and will be selling hamburgers\, hot dogs\, and fries until show close. The Legion bar will open at noon. Proceeds from food and bar sales go directly to the Legion. There is also a large outdoor covered patio from which you can view the sea of Corvettes parked just beyond.  \nWe will have door prizes\, a silent auction (cash or e-transfers only)\, and a 50/50 draw…with proceeds supporting War Amps and the London Children’s Health Foundation. Our show will go\, rain or shine – no rain date will be assigned. If it rains\, the cars get wet\, but the people stay dry thanks to the air-conditioned hall and covered patio.  \nStaying overnight? Check out the Four Points Sheraton on Wellington Rd for our negotiated discounted show rate. \nShow information and hotel details available here.\nOur CWO room discount will be active after January 4Th\, 2026  \nThank you for considering us for your next Corvette experience. 
URL:https://niagaracorvetteclub.com/event/crown-vettes-car-show-2026/
LOCATION:Lambeth Legion\, 7095 Kilbourne Rd\, London\, Ontario\, Canada
CATEGORIES:Drives
ATTACH;FMTTYPE=image/jpeg:https://niagaracorvetteclub.com/wp-content/uploads/2025/12/2026-CWO-Flyer-Crown-Vettes.jpg
END:VEVENT
END:VCALENDAR