BEGIN:VCALENDAR
VERSION:2.0
PRODID:-//Niagara Corvette Club - ECPv6.15.20//NONSGML v1.0//EN
CALSCALE:GREGORIAN
METHOD:PUBLISH
X-ORIGINAL-URL:https://niagaracorvetteclub.com
X-WR-CALDESC:Events for Niagara Corvette Club
REFRESH-INTERVAL;VALUE=DURATION:PT1H
X-Robots-Tag:noindex
X-PUBLISHED-TTL:PT1H
BEGIN:VTIMEZONE
TZID:America/Toronto
BEGIN:DAYLIGHT
TZOFFSETFROM:-0500
TZOFFSETTO:-0400
TZNAME:EDT
DTSTART:20240310T070000
END:DAYLIGHT
BEGIN:STANDARD
TZOFFSETFROM:-0400
TZOFFSETTO:-0500
TZNAME:EST
DTSTART:20241103T060000
END:STANDARD
BEGIN:DAYLIGHT
TZOFFSETFROM:-0500
TZOFFSETTO:-0400
TZNAME:EDT
DTSTART:20250309T070000
END:DAYLIGHT
BEGIN:STANDARD
TZOFFSETFROM:-0400
TZOFFSETTO:-0500
TZNAME:EST
DTSTART:20251102T060000
END:STANDARD
BEGIN:DAYLIGHT
TZOFFSETFROM:-0500
TZOFFSETTO:-0400
TZNAME:EDT
DTSTART:20260308T070000
END:DAYLIGHT
BEGIN:STANDARD
TZOFFSETFROM:-0400
TZOFFSETTO:-0500
TZNAME:EST
DTSTART:20261101T060000
END:STANDARD
END:VTIMEZONE
BEGIN:VEVENT
DTSTART;VALUE=DATE:20250726
DTEND;VALUE=DATE:20250727
DTSTAMP:20260421T151736
CREATED:20250419T150544Z
LAST-MODIFIED:20250705T011105Z
UID:4026-1753488000-1753574399@niagaracorvetteclub.com
SUMMARY:Winetasting and Dinner at Reif Winery with the Corvettes of Western Ontario Club
DESCRIPTION:Join the members of the CWO at Reif Winery for a wine tasting event\, followed by dinner. \nThe cost is $65 plus taxes per member. \nPlease use the RSVP link below to sign up for this event. \nMembers will be contacted regarding the final cost and payment details.
URL:https://niagaracorvetteclub.com/event/corvettes-of-western-ontario-at-reif-winery/
LOCATION:Reif Winery\, 15608 Niagara River Pkwy\, Niagara-on-the-Lake\, Ontario\, L0S 1J0\, Canada
CATEGORIES:Social Events
ATTACH;FMTTYPE=image/webp:https://niagaracorvetteclub.com/wp-content/uploads/2025/04/240727_REIF_WINERY_Exterior_Web_2762.jpg-scaled.webp
END:VEVENT
END:VCALENDAR