BEGIN:VCALENDAR
VERSION:2.0
PRODID:-//Niagara Corvette Club - ECPv6.15.20//NONSGML v1.0//EN
CALSCALE:GREGORIAN
METHOD:PUBLISH
X-WR-CALNAME:Niagara Corvette Club
X-ORIGINAL-URL:https://niagaracorvetteclub.com
X-WR-CALDESC:Events for Niagara Corvette Club
REFRESH-INTERVAL;VALUE=DURATION:PT1H
X-Robots-Tag:noindex
X-PUBLISHED-TTL:PT1H
BEGIN:VTIMEZONE
TZID:America/Toronto
BEGIN:DAYLIGHT
TZOFFSETFROM:-0500
TZOFFSETTO:-0400
TZNAME:EDT
DTSTART:20240310T070000
END:DAYLIGHT
BEGIN:STANDARD
TZOFFSETFROM:-0400
TZOFFSETTO:-0500
TZNAME:EST
DTSTART:20241103T060000
END:STANDARD
BEGIN:DAYLIGHT
TZOFFSETFROM:-0500
TZOFFSETTO:-0400
TZNAME:EDT
DTSTART:20250309T070000
END:DAYLIGHT
BEGIN:STANDARD
TZOFFSETFROM:-0400
TZOFFSETTO:-0500
TZNAME:EST
DTSTART:20251102T060000
END:STANDARD
BEGIN:DAYLIGHT
TZOFFSETFROM:-0500
TZOFFSETTO:-0400
TZNAME:EDT
DTSTART:20260308T070000
END:DAYLIGHT
BEGIN:STANDARD
TZOFFSETFROM:-0400
TZOFFSETTO:-0500
TZNAME:EST
DTSTART:20261101T060000
END:STANDARD
END:VTIMEZONE
BEGIN:VEVENT
DTSTART;TZID=America/Toronto:20250708T170000
DTEND;TZID=America/Toronto:20250708T210000
DTSTAMP:20260421T151408
CREATED:20250509T184828Z
LAST-MODIFIED:20250619T144256Z
UID:4151-1751994000-1752008400@niagaracorvetteclub.com
SUMMARY:Club Meeting & BBQ
DESCRIPTION:The July meeting will be held at Club Capri at 36 Cleveland St in Thorold on Tuesday July 8th. This is the same location as the June 21st Rally and BBQ event. There is easy access from Hwy 406 and Hwy 58 at Pine St. \nThe meeting will feature a private outdoor BBQ Dinner with a variety of chicken and ribs\, potato\, vegetables and soft drinks. A cash bar will be available. \nWe are subsidizing part of the cost of the meal as a thank you to everyone for your support and assistance with our upcoming July 13th Show and Shine Car Show. We will also cover the gratuities for the Club Capri staff for the meal. However\, cash tips at the bar will be appreciated. \nThe cost of the meal per member is $20.00. Please use the RSVP link to sign up for the meal\, and then send an eTransfer to treasurer@niagaracorvetteclub.com for the total cost of the meal(s) for you and your Affiliate Member. The cut-off date for registration will be July 4th. \nCash or cheque payments can also be made at the upcoming June events. (Check our Calendar for the many upcoming events this summer.) \nThis subsidized event is not eligible for Alternate Members to attend. \nThe parking lot will open at 5 pm for socializing\, and the BBQ Dinner will be served from 6 to 7 pm. \nThe parking lot is quite large\, so it will provide a great opportunity to assemble our many Corvettes. \nThe regular meeting (although a little shorter) will begin at 7:30 pm in the parking lot. \nIf you do not wish to take part in the BBQ\, you are more than welcome to arrive for the 7:30 meeting. \nWe look forward to seeing everyone at this event. \nThanks from your Executive \nJoe Bello – President \nCraig Gemmel – Treasurer \nBob Sagon-King – Vice-President \nAndre Kemp – Vice-President \nTerri Johnson – Vice-President \nHarold Anders – Secretary \nDirectors \nSusan Smith – Membership Director \nRichard Limoges – Technical Director \nMaria Kemp – Social Director \nStan Goosen – Historical Advisor \nPaul Toth – Sponsorship \nKipp Battiston – Facebook Editor \nJohn Mytroen – DRIVE Committee Member
URL:https://niagaracorvetteclub.com/event/club-meeting/
LOCATION:Club Capri\, 36 Cleveland Street\, Thorold\, Ontario\, Canada
ATTACH;FMTTYPE=image/jpeg:https://niagaracorvetteclub.com/wp-content/uploads/2025/05/BBQ3-1924x673-1.jpg
END:VEVENT
END:VCALENDAR