BEGIN:VCALENDAR
VERSION:2.0
PRODID:-//Niagara Corvette Club - ECPv6.15.20//NONSGML v1.0//EN
CALSCALE:GREGORIAN
METHOD:PUBLISH
X-WR-CALNAME:Niagara Corvette Club
X-ORIGINAL-URL:https://niagaracorvetteclub.com
X-WR-CALDESC:Events for Niagara Corvette Club
REFRESH-INTERVAL;VALUE=DURATION:PT1H
X-Robots-Tag:noindex
X-PUBLISHED-TTL:PT1H
BEGIN:VTIMEZONE
TZID:America/Toronto
BEGIN:DAYLIGHT
TZOFFSETFROM:-0500
TZOFFSETTO:-0400
TZNAME:EDT
DTSTART:20240310T070000
END:DAYLIGHT
BEGIN:STANDARD
TZOFFSETFROM:-0400
TZOFFSETTO:-0500
TZNAME:EST
DTSTART:20241103T060000
END:STANDARD
BEGIN:DAYLIGHT
TZOFFSETFROM:-0500
TZOFFSETTO:-0400
TZNAME:EDT
DTSTART:20250309T070000
END:DAYLIGHT
BEGIN:STANDARD
TZOFFSETFROM:-0400
TZOFFSETTO:-0500
TZNAME:EST
DTSTART:20251102T060000
END:STANDARD
BEGIN:DAYLIGHT
TZOFFSETFROM:-0500
TZOFFSETTO:-0400
TZNAME:EDT
DTSTART:20260308T070000
END:DAYLIGHT
BEGIN:STANDARD
TZOFFSETFROM:-0400
TZOFFSETTO:-0500
TZNAME:EST
DTSTART:20261101T060000
END:STANDARD
END:VTIMEZONE
BEGIN:VEVENT
DTSTART;TZID=America/Toronto:20250621T093000
DTEND;TZID=America/Toronto:20250621T140000
DTSTAMP:20260421T170003
CREATED:20250509T184648Z
LAST-MODIFIED:20250517T172028Z
UID:4145-1750498200-1750514400@niagaracorvetteclub.com
SUMMARY:NCC Car Rally and Lunch
DESCRIPTION:The NCC 2025 Car Rally will be held on Saturday June 21st\, beginning at Club Capri located on 36 Cleveland Street in Thorold. Coffee will be available at 9:30 am\, as well as access to club facilities. We will start the rally at approximately 10:30 am. The rally will start and end at Club Capri. Cars will be instructed to leave every 4-5 minutes. This is not a competitive rally. \nThis car rally is not a race and is intended for the fun of each driver and navigator.  The route should take a little over an hour to complete and has been selected for all members to enjoy some of our most picturesque back roads in Niagara. \n \nBefore the rally begins\, participants will be given a sheet with directions and rally questions to be answered along the way between each turn. Co-pilots must complete the sheets during the rally and submit them at the end of the rally. \nIt is therefore recommended that members sign up for this event in pairs\, although you are welcome to drive the rally route on your own and do your best to record the answers. \nCorrectly answered questions will be counted and totaled at the conclusion of the event to determine winners. \nPlease drive safely and obey the rules of the road. \nAt the conclusion of the rally\, a BBQ lunch will be served in the parking lot at Club Capri. Members can socialize and enjoy lunch as they complete the rally course. \nThe cost of the lunch is $20 per member. This payment must be received by eTransfer before June 3rd\, or by cash or cheque at the June 3rd Club Meeting at Niagara College. \nA rain date has been scheduled for the next day at the same time and location. \nPlease use the RSVP link below to sign up for this event. Please provide your name(s) and email address\, and as always\, please enter 1 Guest if you are attending the event on your own\, or enter 2 guests if your spouse or partner is also attending.
URL:https://niagaracorvetteclub.com/event/ncc-car-rally-and-lunch/
LOCATION:Club Capri\, 36 Cleveland Street\, Thorold\, Ontario\, Canada
CATEGORIES:Drives
ATTACH;FMTTYPE=image/jpeg:https://niagaracorvetteclub.com/wp-content/uploads/2025/05/CarRally.jpg
END:VEVENT
BEGIN:VEVENT
DTSTART;TZID=America/Toronto:20250621T140000
DTEND;TZID=America/Toronto:20250621T170000
DTSTAMP:20260421T170003
CREATED:20250611T192448Z
LAST-MODIFIED:20250611T193626Z
UID:4416-1750514400-1750525200@niagaracorvetteclub.com
SUMMARY:John Sawicki Celebration of Life
DESCRIPTION:Sat June 21st from 2 to 5 pm at the Niagara College – Niagara-On-The-Lake Campus \nJohn Sawicki was a long time member of the Niagara Corvette Club. John passed away peacefully at home on October 23\, 2024 surrounded by his loving family. He was a cherished partner to wife Kristal Doyle for almost 22 years. \nThere will be a Celebration of Life in his honour at the Armoury Pub at the Niagara-On-The-Lake Campus of the Niagara College. Please see the attached maps for buildings and parking. \nAs that morning is also the day of our Club Rally and BBQ Lunch\, we will be organizing a Corvette Parade from Club Capri down the Welland Canal and across Glendale Ave to the Niagara Campus before 2 pm that day. We encourage the members participating in the Club Rally to join in the Parade. \nWe also encourage other members to join in the Parade along the Glendale route (a good waiting spot is across from General Motors in the empty lot)\, or meet up with our Club Members at the Armoury Pub.
URL:https://niagaracorvetteclub.com/event/john-sawicki-celebration-of-life/
LOCATION:Niagara College – Niagara-On-The-Lake Campus\, 135 Taylor Rd\, Niagara-on-the-Lake\, Ontario\, L0S 1J0\, Canada
CATEGORIES:Social Events
END:VEVENT
END:VCALENDAR