BEGIN:VCALENDAR
VERSION:2.0
PRODID:-//Niagara Corvette Club - ECPv6.15.20//NONSGML v1.0//EN
CALSCALE:GREGORIAN
METHOD:PUBLISH
X-WR-CALNAME:Niagara Corvette Club
X-ORIGINAL-URL:https://niagaracorvetteclub.com
X-WR-CALDESC:Events for Niagara Corvette Club
REFRESH-INTERVAL;VALUE=DURATION:PT1H
X-Robots-Tag:noindex
X-PUBLISHED-TTL:PT1H
BEGIN:VTIMEZONE
TZID:America/Toronto
BEGIN:DAYLIGHT
TZOFFSETFROM:-0500
TZOFFSETTO:-0400
TZNAME:EDT
DTSTART:20240310T070000
END:DAYLIGHT
BEGIN:STANDARD
TZOFFSETFROM:-0400
TZOFFSETTO:-0500
TZNAME:EST
DTSTART:20241103T060000
END:STANDARD
BEGIN:DAYLIGHT
TZOFFSETFROM:-0500
TZOFFSETTO:-0400
TZNAME:EDT
DTSTART:20250309T070000
END:DAYLIGHT
BEGIN:STANDARD
TZOFFSETFROM:-0400
TZOFFSETTO:-0500
TZNAME:EST
DTSTART:20251102T060000
END:STANDARD
BEGIN:DAYLIGHT
TZOFFSETFROM:-0500
TZOFFSETTO:-0400
TZNAME:EDT
DTSTART:20260308T070000
END:DAYLIGHT
BEGIN:STANDARD
TZOFFSETFROM:-0400
TZOFFSETTO:-0500
TZNAME:EST
DTSTART:20261101T060000
END:STANDARD
END:VTIMEZONE
BEGIN:VEVENT
DTSTART;TZID=America/Toronto:20250615T093000
DTEND;TZID=America/Toronto:20250615T130000
DTSTAMP:20260421T171000
CREATED:20250419T150237Z
LAST-MODIFIED:20250504T232243Z
UID:4019-1749979800-1749992400@niagaracorvetteclub.com
SUMMARY:Brown Homestead Tour / Cars and Coffee
DESCRIPTION:We will enjoy a one hour private tour of the Brown Homestead at 1317 Pelham Road\, St. Catharines at 10 am\, through the John Brown House and around the property to the heritage buildings on site. Tours are conversational and interactive. We focus on the story of what brought the Loyalist Brown family to settle here\, how they built the house\, and the family farm that operated here. We explore the other families that lived here\, and also give you a behind-the-scenes glimpse into the ongoing restoration of the site – what we’ve uncovered and the heritage craftsmanship of the home. \nThe tour is free for our group\, the staff has suggested a voluntary donation of $5 per member to support their preservation efforts. \nWe will then head down Effingham Street for a short drive to the Sons and Daughters Winery at 1389 Effingham St\, Ridgeville for wine tastings and by-the-glass available\, the cafe will be open\, and will very likely have the pizza oven up and running as well. \nhttps://www.sonsdaughterswinery.com/ \nThe starting location for this tour is the usual parking lot in front of the Bulk Barn at Fourth Avenue and Vansickle Road (near Walmart and Canadian Tire) at 9:30 am on Sunday June 15th. \nPlease arrive early\, as we will be departing on time for the short drive to the Brown Homestead. \nPlease use the RSVP link below to sign up for this event. Space is limited for this tour. \nAs always\, please enter 1 Guest if you are attending the event on your own\, or enter 2 guests if your spouse or partner is also attending. \nBe sure to frequently take a look at the full Calendar of Events on the website for other events and cruises and car shows that you may wish to also participate in.
URL:https://niagaracorvetteclub.com/event/brown-homestead-tour-cars-and-coffee/
LOCATION:Sons and Daughters Winery\, 1389 Effingham Street\, Ridgeville\, Ontario\, L0S 1E5\, Canada
CATEGORIES:Social Events
ATTACH;FMTTYPE=image/jpeg:https://niagaracorvetteclub.com/wp-content/uploads/2025/04/Untitled-1.jpg
END:VEVENT
END:VCALENDAR