BEGIN:VCALENDAR
VERSION:2.0
PRODID:-//Niagara Corvette Club - ECPv6.15.20//NONSGML v1.0//EN
CALSCALE:GREGORIAN
METHOD:PUBLISH
X-ORIGINAL-URL:https://niagaracorvetteclub.com
X-WR-CALDESC:Events for Niagara Corvette Club
REFRESH-INTERVAL;VALUE=DURATION:PT1H
X-Robots-Tag:noindex
X-PUBLISHED-TTL:PT1H
BEGIN:VTIMEZONE
TZID:America/Toronto
BEGIN:DAYLIGHT
TZOFFSETFROM:-0500
TZOFFSETTO:-0400
TZNAME:EDT
DTSTART:20240310T070000
END:DAYLIGHT
BEGIN:STANDARD
TZOFFSETFROM:-0400
TZOFFSETTO:-0500
TZNAME:EST
DTSTART:20241103T060000
END:STANDARD
BEGIN:DAYLIGHT
TZOFFSETFROM:-0500
TZOFFSETTO:-0400
TZNAME:EDT
DTSTART:20250309T070000
END:DAYLIGHT
BEGIN:STANDARD
TZOFFSETFROM:-0400
TZOFFSETTO:-0500
TZNAME:EST
DTSTART:20251102T060000
END:STANDARD
BEGIN:DAYLIGHT
TZOFFSETFROM:-0500
TZOFFSETTO:-0400
TZNAME:EDT
DTSTART:20260308T070000
END:DAYLIGHT
BEGIN:STANDARD
TZOFFSETFROM:-0400
TZOFFSETTO:-0500
TZNAME:EST
DTSTART:20261101T060000
END:STANDARD
END:VTIMEZONE
BEGIN:VEVENT
DTSTART;TZID=America/Toronto:20250608T080000
DTEND;TZID=America/Toronto:20250608T170000
DTSTAMP:20260421T171113
CREATED:20250125T005706Z
LAST-MODIFIED:20250125T005706Z
UID:3590-1749369600-1749402000@niagaracorvetteclub.com
SUMMARY:Windsor Waterfront Corvette Show 2025
DESCRIPTION:The Corvette Club of Windsor – Annual Waterfront Corvette Show – Concours Nationals \nWe will be at our original location at the Detroit River on the grass at Dieppe Park (Across the river from the GM Headquarters Building) \nProceeds benefit the Windsor Regional Hospital – Pediatric Oncology Satellite Unit. \nClick here for details and registration.
URL:https://niagaracorvetteclub.com/event/windsor-waterfront-corvette-show-2025/
LOCATION:Dieppe Park\, 78 Riverside Drive West\, Windsor\, Ontario\, N9A 0A3\, Canada
ATTACH;FMTTYPE=image/jpeg:https://niagaracorvetteclub.com/wp-content/uploads/2025/01/2025-Flyer-partial.jpg
END:VEVENT
END:VCALENDAR