BEGIN:VCALENDAR
VERSION:2.0
PRODID:-//Niagara Corvette Club - ECPv6.15.20//NONSGML v1.0//EN
CALSCALE:GREGORIAN
METHOD:PUBLISH
X-ORIGINAL-URL:https://niagaracorvetteclub.com
X-WR-CALDESC:Events for Niagara Corvette Club
REFRESH-INTERVAL;VALUE=DURATION:PT1H
X-Robots-Tag:noindex
X-PUBLISHED-TTL:PT1H
BEGIN:VTIMEZONE
TZID:America/Toronto
BEGIN:DAYLIGHT
TZOFFSETFROM:-0500
TZOFFSETTO:-0400
TZNAME:EDT
DTSTART:20240310T070000
END:DAYLIGHT
BEGIN:STANDARD
TZOFFSETFROM:-0400
TZOFFSETTO:-0500
TZNAME:EST
DTSTART:20241103T060000
END:STANDARD
BEGIN:DAYLIGHT
TZOFFSETFROM:-0500
TZOFFSETTO:-0400
TZNAME:EDT
DTSTART:20250309T070000
END:DAYLIGHT
BEGIN:STANDARD
TZOFFSETFROM:-0400
TZOFFSETTO:-0500
TZNAME:EST
DTSTART:20251102T060000
END:STANDARD
BEGIN:DAYLIGHT
TZOFFSETFROM:-0500
TZOFFSETTO:-0400
TZNAME:EDT
DTSTART:20260308T070000
END:DAYLIGHT
BEGIN:STANDARD
TZOFFSETFROM:-0400
TZOFFSETTO:-0500
TZNAME:EST
DTSTART:20261101T060000
END:STANDARD
END:VTIMEZONE
BEGIN:VEVENT
DTSTART;TZID=America/Toronto:20250426T103000
DTEND;TZID=America/Toronto:20250426T150000
DTSTAMP:20260421T202416
CREATED:20250212T211202Z
LAST-MODIFIED:20250409T095912Z
UID:3625-1745663400-1745679600@niagaracorvetteclub.com
SUMMARY:The “Get your Vette out of the Garage” Spring Cruise and Lunch
DESCRIPTION:NCC Members\, it’s time to get your Vette back on the road! \nJoin us at the “Car Pool Lot” off York Road (Please see the satellite image) in Niagara-On-The-Lake at 10:30 am on Saturday April 26th. It is easiest to enter the lot from York Road. \nWe’ll have coffee and donuts for you\, while you meet up with the other Club Members and check out any new additions to the Corvette fleet. \nWe’ll head out after 11 am to take a back road drive south to the Blackburn Brewhouse in Niagara Falls (https://www.blackburnbrewhouse.com/) to enjoy lunch (Members purchase their lunch and drinks from the Taproom menu). \nPlease contact Andre Kemp at andrevp@niagaracorvetteclub.com for more information.
URL:https://niagaracorvetteclub.com/event/the-get-your-vette-out-of-the-garage-spring-cruise-and-lunch/
LOCATION:Outlet Collection at Niagara\, 300 Taylor Road\, Niagara-On-The-Lake\, Ontario\, Canada
ATTACH;FMTTYPE=image/jpeg:https://niagaracorvetteclub.com/wp-content/uploads/2025/02/Get-your-Vette-Out.jpg
END:VEVENT
END:VCALENDAR