BEGIN:VCALENDAR
VERSION:2.0
PRODID:-//Niagara Corvette Club - ECPv6.15.20//NONSGML v1.0//EN
CALSCALE:GREGORIAN
METHOD:PUBLISH
X-WR-CALNAME:Niagara Corvette Club
X-ORIGINAL-URL:https://niagaracorvetteclub.com
X-WR-CALDESC:Events for Niagara Corvette Club
REFRESH-INTERVAL;VALUE=DURATION:PT1H
X-Robots-Tag:noindex
X-PUBLISHED-TTL:PT1H
BEGIN:VTIMEZONE
TZID:America/Toronto
BEGIN:DAYLIGHT
TZOFFSETFROM:-0500
TZOFFSETTO:-0400
TZNAME:EDT
DTSTART:20240310T070000
END:DAYLIGHT
BEGIN:STANDARD
TZOFFSETFROM:-0400
TZOFFSETTO:-0500
TZNAME:EST
DTSTART:20241103T060000
END:STANDARD
BEGIN:DAYLIGHT
TZOFFSETFROM:-0500
TZOFFSETTO:-0400
TZNAME:EDT
DTSTART:20250309T070000
END:DAYLIGHT
BEGIN:STANDARD
TZOFFSETFROM:-0400
TZOFFSETTO:-0500
TZNAME:EST
DTSTART:20251102T060000
END:STANDARD
BEGIN:DAYLIGHT
TZOFFSETFROM:-0500
TZOFFSETTO:-0400
TZNAME:EDT
DTSTART:20260308T070000
END:DAYLIGHT
BEGIN:STANDARD
TZOFFSETFROM:-0400
TZOFFSETTO:-0500
TZNAME:EST
DTSTART:20261101T060000
END:STANDARD
END:VTIMEZONE
BEGIN:VEVENT
DTSTART;TZID=America/Toronto:20250207T170000
DTEND;TZID=America/Toronto:20250207T220000
DTSTAMP:20260421T235818
CREATED:20250120T184125Z
LAST-MODIFIED:20250120T184125Z
UID:3569-1738947600-1738965600@niagaracorvetteclub.com
SUMMARY:Concert and Dinner Event
DESCRIPTION:If you enjoy music\, live concerts and especially Eagles music\, this is a concert you won’t want to miss.  Epic Eagles are a local Eagles Tribute Band that have played across Canada\, USA locations and cruise ships.  Their leader Dean Young is a Fort Erie resident\, and they did this show in 2023 as a fundraiser for the community and are doing it again.  In 2023 we had 30 of our NCC members attend the dinner and the show \nThis concert will be Friday February 7 at a great venue right in Fort Erie.  They are giving the Niagara Corvette Club a 20% group discount. \nIf you would like to attend\, please contact us for the discount code or check your previous email newsletter from the club (sent on December 18th). \nWe’re also planning dinner before the event at the Barrel Restaurant in Fort Erie at 224 Garrison Rd\, Fort Erie in their private room. \nThe concert starts at 7 pm\, so to ensure we have time for dinner we plan to meet at the restaurant by 5 pm.  Details to follow. \nFollowing is the link to use to book your seats.  We do not have a block of seats\, so just select your favourite location. \nhttps://www.ticketscene.ca/events/48986/ \nMake sure to bring your tickets to the show! \nOnce you’ve booked\, please send John Mytroen an Email at john.mytroen@gmail.com to let him know that you will be attending the concert\, and if you would also like to attend the dinner. He’ll keep you informed of the dinner plans and the menu.
URL:https://niagaracorvetteclub.com/event/concert-and-dinner-event/
ATTACH;FMTTYPE=image/jpeg:https://niagaracorvetteclub.com/wp-content/uploads/2025/01/d6d3debf-4103-a9dd-0aa5-c11ef14b53de-scaled.jpg
END:VEVENT
END:VCALENDAR